BEGIN:VCALENDAR
VERSION:2.0
PRODID:-//Durham Scouts - ECPv6.15.20//NONSGML v1.0//EN
CALSCALE:GREGORIAN
METHOD:PUBLISH
X-WR-CALNAME:Durham Scouts
X-ORIGINAL-URL:https://durhamscouts.org.uk
X-WR-CALDESC:Events for Durham Scouts
REFRESH-INTERVAL;VALUE=DURATION:PT1H
X-Robots-Tag:noindex
X-PUBLISHED-TTL:PT1H
BEGIN:VTIMEZONE
TZID:Europe/London
BEGIN:DAYLIGHT
TZOFFSETFROM:+0000
TZOFFSETTO:+0100
TZNAME:BST
DTSTART:20240331T010000
END:DAYLIGHT
BEGIN:STANDARD
TZOFFSETFROM:+0100
TZOFFSETTO:+0000
TZNAME:GMT
DTSTART:20241027T010000
END:STANDARD
BEGIN:DAYLIGHT
TZOFFSETFROM:+0000
TZOFFSETTO:+0100
TZNAME:BST
DTSTART:20250330T010000
END:DAYLIGHT
BEGIN:STANDARD
TZOFFSETFROM:+0100
TZOFFSETTO:+0000
TZNAME:GMT
DTSTART:20251026T010000
END:STANDARD
BEGIN:DAYLIGHT
TZOFFSETFROM:+0000
TZOFFSETTO:+0100
TZNAME:BST
DTSTART:20260329T010000
END:DAYLIGHT
BEGIN:STANDARD
TZOFFSETFROM:+0100
TZOFFSETTO:+0000
TZNAME:GMT
DTSTART:20261025T010000
END:STANDARD
END:VTIMEZONE
BEGIN:VEVENT
DTSTART;VALUE=DATE:20251018
DTEND;VALUE=DATE:20251020
DTSTAMP:20260425T045612
CREATED:20250820T133857Z
LAST-MODIFIED:20250922T081807Z
UID:11137-1760745600-1760918399@durhamscouts.org.uk
SUMMARY:World Scout Jamboree - Selection Weekend
DESCRIPTION:
URL:https://durhamscouts.org.uk/event/world-scout-jamboree-selection-weekend/
LOCATION:Moor House Adventure Centre\, Rainton Gate\, West Rainton\, Houghton le Spring\, DH4 6QY
CATEGORIES:Jamboree
ATTACH;FMTTYPE=image/png:https://durhamscouts.org.uk/wp-content/uploads/2025/04/jamboreeCover-e1754554015997.png
END:VEVENT
END:VCALENDAR