BEGIN:VCALENDAR
VERSION:2.0
PRODID:-//Durham Scouts - ECPv6.15.20//NONSGML v1.0//EN
CALSCALE:GREGORIAN
METHOD:PUBLISH
X-WR-CALNAME:Durham Scouts
X-ORIGINAL-URL:https://durhamscouts.org.uk
X-WR-CALDESC:Events for Durham Scouts
REFRESH-INTERVAL;VALUE=DURATION:PT1H
X-Robots-Tag:noindex
X-PUBLISHED-TTL:PT1H
BEGIN:VTIMEZONE
TZID:Europe/London
BEGIN:DAYLIGHT
TZOFFSETFROM:+0000
TZOFFSETTO:+0100
TZNAME:BST
DTSTART:20240331T010000
END:DAYLIGHT
BEGIN:STANDARD
TZOFFSETFROM:+0100
TZOFFSETTO:+0000
TZNAME:GMT
DTSTART:20241027T010000
END:STANDARD
BEGIN:DAYLIGHT
TZOFFSETFROM:+0000
TZOFFSETTO:+0100
TZNAME:BST
DTSTART:20250330T010000
END:DAYLIGHT
BEGIN:STANDARD
TZOFFSETFROM:+0100
TZOFFSETTO:+0000
TZNAME:GMT
DTSTART:20251026T010000
END:STANDARD
BEGIN:DAYLIGHT
TZOFFSETFROM:+0000
TZOFFSETTO:+0100
TZNAME:BST
DTSTART:20260329T010000
END:DAYLIGHT
BEGIN:STANDARD
TZOFFSETFROM:+0100
TZOFFSETTO:+0000
TZNAME:GMT
DTSTART:20261025T010000
END:STANDARD
BEGIN:DAYLIGHT
TZOFFSETFROM:+0000
TZOFFSETTO:+0100
TZNAME:BST
DTSTART:20270328T010000
END:DAYLIGHT
BEGIN:STANDARD
TZOFFSETFROM:+0100
TZOFFSETTO:+0000
TZNAME:GMT
DTSTART:20271031T010000
END:STANDARD
END:VTIMEZONE
BEGIN:VEVENT
DTSTART;VALUE=DATE:20260207
DTEND;VALUE=DATE:20260208
DTSTAMP:20260425T113518
CREATED:20250918T082454Z
LAST-MODIFIED:20250918T082454Z
UID:11176-1770422400-1770508799@durhamscouts.org.uk
SUMMARY:Awards 2026
DESCRIPTION:Our awards and celebration event will be held in February 2026. All recipients of eligible awards\, plus their guests and a leader\, will be invited to this prestigious event and will have the opportunity to meet other award recipients and special guests and be presented with their award.
URL:https://durhamscouts.org.uk/event/awards-2026/
LOCATION:Glow Venue\, Long Tens Way\, Newton Aycliffe\, County Durham\, DL5 6AP
CATEGORIES:County
END:VEVENT
BEGIN:VEVENT
DTSTART;TZID=Europe/London:20250923T193000
DTEND;TZID=Europe/London:20250923T193000
DTSTAMP:20260425T113518
CREATED:20250904T083100Z
LAST-MODIFIED:20250904T083229Z
UID:11169-1758655800-1758655800@durhamscouts.org.uk
SUMMARY:Annual General Meeting
DESCRIPTION:You are warmly invited to Durham Scout County’s 2024/25 Annual General Meeting. \nThe meeting will take place on Tuesday 23rd September at 7.30pm at Moor House Activity Centre\, Rainton Gate\, Durham. DH4 6QY. \nThe evening will include the formal AGM and an opportunity to view the new Bunkhouse\, which will shortly be available for bookings. Attendees may wish to take this chance for an early preview. \nThe AGM also provides an opportunity to meet members of the County Team and to connect with fellow Scouters. \nTea and coffee will be served before and after the meeting. \nThe agenda and County Report will be circulated in advance. \nWe look forward to welcoming you on the evening.
URL:https://durhamscouts.org.uk/event/annual-general-meeting/
LOCATION:Moor House Adventure Centre\, Rainton Gate\, West Rainton\, Houghton le Spring\, DH4 6QY
CATEGORIES:County
END:VEVENT
BEGIN:VEVENT
DTSTART;VALUE=DATE:20250201
DTEND;VALUE=DATE:20250202
DTSTAMP:20260425T113518
CREATED:20241223T094051Z
LAST-MODIFIED:20241223T094619Z
UID:10395-1738368000-1738454399@durhamscouts.org.uk
SUMMARY:Awards 2025
DESCRIPTION:
URL:https://durhamscouts.org.uk/event/awards-2025/
LOCATION:Glow Venue\, Long Tens Way\, Newton Aycliffe\, County Durham\, DL5 6AP
CATEGORIES:County
END:VEVENT
END:VCALENDAR