BEGIN:VCALENDAR
VERSION:2.0
PRODID:-//Durham Scouts - ECPv6.15.20//NONSGML v1.0//EN
CALSCALE:GREGORIAN
METHOD:PUBLISH
X-WR-CALNAME:Durham Scouts
X-ORIGINAL-URL:https://durhamscouts.org.uk
X-WR-CALDESC:Events for Durham Scouts
REFRESH-INTERVAL;VALUE=DURATION:PT1H
X-Robots-Tag:noindex
X-PUBLISHED-TTL:PT1H
BEGIN:VTIMEZONE
TZID:Europe/London
BEGIN:DAYLIGHT
TZOFFSETFROM:+0000
TZOFFSETTO:+0100
TZNAME:BST
DTSTART:20250330T010000
END:DAYLIGHT
BEGIN:STANDARD
TZOFFSETFROM:+0100
TZOFFSETTO:+0000
TZNAME:GMT
DTSTART:20251026T010000
END:STANDARD
BEGIN:DAYLIGHT
TZOFFSETFROM:+0000
TZOFFSETTO:+0100
TZNAME:BST
DTSTART:20260329T010000
END:DAYLIGHT
BEGIN:STANDARD
TZOFFSETFROM:+0100
TZOFFSETTO:+0000
TZNAME:GMT
DTSTART:20261025T010000
END:STANDARD
BEGIN:DAYLIGHT
TZOFFSETFROM:+0000
TZOFFSETTO:+0100
TZNAME:BST
DTSTART:20270328T010000
END:DAYLIGHT
BEGIN:STANDARD
TZOFFSETFROM:+0100
TZOFFSETTO:+0000
TZNAME:GMT
DTSTART:20271031T010000
END:STANDARD
END:VTIMEZONE
BEGIN:VEVENT
DTSTART;TZID=Europe/London:20260425T090000
DTEND;TZID=Europe/London:20260426T180000
DTSTAMP:20260425T013423
CREATED:20260401T102835Z
LAST-MODIFIED:20260401T102835Z
UID:11485-1777107600-1777226400@durhamscouts.org.uk
SUMMARY:Outdoor First Aid (Moor House)
DESCRIPTION:This qualification is designed to meet the needs of those working away from immediate assistance (more than 30 mins) in the remote and rural regions of the UK. This Outdoor First Aid qualification is externally regulated and meets the standards to appear upon the national qualifications frameworks of England and Wales\, and also meets the First Response requirements for Scouts & Guides.  This course is recognised throughout the UK and is the course of choice for experienced practitioners who use the outdoors.
URL:https://durhamscouts.org.uk/event/outdoor-first-aid-moor-house-april-2026/
LOCATION:Moor House Adventure Centre\, Rainton Gate\, West Rainton\, Houghton le Spring\, DH4 6QY
CATEGORIES:Learning
ATTACH;FMTTYPE=image/png:https://durhamscouts.org.uk/wp-content/uploads/2025/12/ChatGPT-Image-Dec-3-2025-12_02_11-PM.png
END:VEVENT
END:VCALENDAR